Workbook
Name _Toc483664829: PHANKY!#REF!
Name _Toc483664830: PHANKY!#REF!

Sheet TỔNG GIÁ TRỊ
A1: TỔNG GIÁ TRỊ DỰ ÁN
A3: TT | B3: Nội dung đầu tư | C3: Giá trị đầu tư
A4: I | B4: Kinh phí dự án | C4: =SUM(C5:C6) -> 4146880000
A5: 1 | B5: Kinh phí đào tạo đạt chuẩn (Được cấp chứngchỉ) | C5: 1163200000
A6: 2 | B6: Hoạt động hỗ trợ rèn luyện kỹ năng | C6: ='REN LUYEN KY NĂNG'!E7 -> 2983680000
A7: II | B7: Chi phí dự án | C7: =SUM(C8:C13) -> 4.657392e+08
A8: 1 | B8: Chi phí quản lý dự án | C8: =Sheet1!B17*'TỔNG GIÁ TRỊ'!C4/100 -> 1.361006e+08 | E8: =C8+C9+C10 -> 1.6458967e+08 | F8: 2
A9: 2 | B9: Chi phí lập báo cáo khả thi | C9: =C4*Sheet1!C17/100 -> 27701158
A10: 3 | B10: Chi phí thẩm định dự án | C10: =C4*Sheet1!D35/100 -> 787907.2
A11: 4 | B11: Chi phí kiểm toán | C11: =C4*Sheet1!H34/100 -> 58751959 | E11: =C11+C12+C13 -> 3.0114954e+08
A12: 5 | B12: Chi phí thẩm tra quyết toán | C12: =C4*Sheet1!E34/100 -> 35053577
A13: 6 | B13: Dự phòng cho yếu tố phát sinh khối lượng (5%) | C13: =C4*5/100 -> 207344000
B14: CỘNG (I+II) | C14: =C4+C7 -> 4.6126192e+09
B16: - Nguồn kinh phí địa phương (UBNDTP) | C16: =C4 -> 4146880000 | D16: VNĐ
B17: - Nguồn vốn tự có của đơn vị (Nhà trường) | C17: =C7 -> 4.657392e+08 | D17: VNĐ

Sheet REN LUYEN KY NĂNG
A4: TT | B4: Nội dung đầu tư | C4: Số lượng tài khoản | D4: Đơn giá | E4: Thành tiền | F4: Đối tượng học
A5: 1 | B5: Tài khoản học trực tuyến do GV Việt Nam giảng dạy | C5: 114 | D5: 11520000 | E5: =C5*D5 -> 1313280000 | F5: 227 GV và CB quản lý học (2 người/1TK)
A6: 2 | B6: Tài khoản học trực tuyến do GV nước ngoài giảng dạy | C6: 58 | D6: 28800000 | E6: =C6*D6 -> 1670400000 | F6: 58 GV được đào tạo trình độ B1 trở lên
B7: CỘNG | E7: =SUM(E5:E6) -> 2983680000
B9: * Tài khoản do GV VN giảng dạy:
B10: 80.000đ/giờ * 3 buổi/tuần * 48 tuần/năm = 11.520.000 VNĐ
B11: * Tài khoản do GV VN giảng dạy:
B12: 200.000đ/giờ * 3 buổi/tuần * 48 tuần/năm = 28.800.000 VNĐ

Sheet PHANKY
A3: TT | B3: Nội dung đầu tư | C3: Giá trị đầu tư
C4: Tổng giá trị | D4: Năm 2019 | E4: Năm 2020
A5: 1 | B5: Kinh phí đào tạo đạt chuẩn (Được cấp chứng chỉ) | C5: =D5+E5 -> 1163200000 | D5: 470400000 | E5: 692800000
A6: 2 | B6: Hoạt động hỗ trợ rèn luyện kỹ năng | C6: =D6+E6 -> 2983680000 | D6: ='REN LUYEN KY NĂNG'!E7/2 -> 1491840000 | E6: ='REN LUYEN KY NĂNG'!E7/2 -> 1491840000
A7: 6 | B7: Chi phí dự án | C7: =D7+E7 -> 4.657392e+08 | D7: ='TỔNG GIÁ TRỊ'!E8 -> 1.6458967e+08 | E7: ='TỔNG GIÁ TRỊ'!E11 -> 3.0114954e+08
B8: CỘNG | C8: =SUM(C5:C7) -> 4.6126192e+09 | D8: =SUM(D5:D7) -> 2.1268297e+09 | E8: =SUM(E5:E7) -> 2.4857895e+09

Sheet Sheet3

Sheet Sheet1
A1: =0,09-((0,09-0,08)*(18262722421-10000000000)/15000000000) | F1: Nb | K1: 0.475 | L1: Công thức:
F2: Na | K2: 0.65 | L2: Nt = Nb - [(Nb-Na)/(Ga-Gb)] x (Gt-Gb)
F3: Ga | K3: 10
F4: Gb | K4: 50
A5: Nt= | B5: Nb-(Nb-Na)/(Ga-Gb)*(Gt-Gb) | F5: Gt | L5: G: Quy mô giá trị
B6: =3.08-(3.08-2.99)/(500000000-200000000)*(261889273-200000000) -> 3.0614332 | F6: Nt | H6: =G6/100 -> 0 | L6: N: Định mức tư vấn
L7: a: Cận trên
L8: b: cận dưới
E9: Chi phí lập hồ sơ mời thầu và chi phí lựa chọn nhà thầu
B10: QLDA | C10: Lập DA báo cáo khả thi | D10: Chi phí thẩm định giá | E10: Thiết bị | G10: Xây dựng
A11: Nb | B11: 1.796 | C11: 0.402 | E11: 0.102 | G11: 0.04
A12: Na | B12: 1.921 | C12: 0.534 | E12: 0.113 | G12: 0.032
A13: Ga | B13: 200 | C13: 200 | E13: 200 | G13: 2000
A14: Gb | B14: 100 | C14: 100 | E14: 100 | G14: 1000
A15: Gt | B15: 180 | C15: 180 | E15: 200 | G15: 727
A16: Nt | B16: =B11-(B11-B12)/(B13-B14)*(B15-B14) -> 1.896 | C16: =C11-(C11-C12)/(C13-C14)*(C15-C14) -> 0.5076 | D16: ='[1]TONGCP(CONGTHUC)'!E12*2/100 -> 8.5536215e+09 | E16: =E11-(E11-E12)/(E13-E14)*(E15-E14) -> 0.113 | G16: =G11-(G11-G12)/(G13-G14)*(G15-G14) -> 0.042184
B17: 3.282 | C17: 0.668
A19: Giám sát XD | C19: Giám sát TB | D19: Chi phí thẩm tra thiết kế dự toán | G19: ='[1]TONGCP(CONGTHUC)'!E12 -> 427681074656
A20: 0.797 | C20: 1.546 | D20: 0.029 | G20: =G19*10% -> 4.2768107e+10
A21: 0.694 | C21: 1.845 | D21: 0.028 | G21: =G19-G20 -> 3.8491297e+11
A22: 2000 | C22: 200 | D22: 2000
A23: 1000 | C23: 100 | D23: 1000 | G23: ='[1]TONGCP(CONGTHUC)'!E11 -> 808000000000
A24: 808 | C24: 180 | D24: 727 | G24: =G23*10% -> 80800000000
A25: =A20-(A20-A21)/(A22-A23)*(A24-A23) -> 0.816776 | C25: =C20-(C20-C21)/(C22-C23)*(C24-C23) -> 1.7852 | D25: =D20-(D20-D21)/(D22-D23)*(D24-D23) -> 0.029273 | G25: =G23-G24 -> 727200000000
D28: Chi phí thẩm định dự án | E28: Chi phí thẩm tra quyết toán | H28: Chi phí kiểm toán
D29: 0.01 | E29: 0.65 | H29: 1.075
D30: 0.0125 | E30: 0.95 | H30: 1.6
D31: 200 | E31: 10 | H31: 10
D32: 100 | E32: 5 | H32: 5
D33: 122 | E33: 8.255 | H33: 8.255
D34: =D29-(D29-D30)/(D31-D32)*(D33-D32) -> 0.01055 | E34: =E29-(E29-E30)/(E31-E32)*(E33-E32) -> 0.8453 | H34: =H29-(H29-H30)/(H31-H32)*(H33-H32) -> 1.416775
D35: 0.019

Sheet Sheet2
